BEGIN:VCALENDAR
VERSION:2.0
PRODID:-//Plone.org//NONSGML plone.app.event//EN
X-WR-TIMEZONE:US/Central
BEGIN:VEVENT
SUMMARY:Teen Time: Self-Care at the Library
DTSTART;TZID=US/Central:20230626T170000
DTEND;TZID=US/Central:20230626T180000
DTSTAMP:20260420T092220Z
UID:32f04c258da048018014ccb531551e90@saas_stack_varnish:6080
CONTACT:Tracy Lambert Jack\, 8174416545\, programs@epclibrary.com
CREATED:20230626T172245Z
DESCRIPTION:For our Middle and High Schoolers!  Join us at the library to 
 make bath bombs and sugar scrub.\n\nEPC Library\, 5-6PM\; snacks provided!
LAST-MODIFIED:20230626T172250Z
LOCATION:East Parker County Library
URL:https://eastparkercounty.ploud.net/news-events/teen-time-self-care-at-
 the-library
END:VEVENT
BEGIN:VTIMEZONE
TZID:US/Central
X-LIC-LOCATION:US/Central
BEGIN:DAYLIGHT
DTSTART:20230312T030000
TZNAME:CDT
TZOFFSETFROM:-0600
TZOFFSETTO:-0500
END:DAYLIGHT
END:VTIMEZONE
END:VCALENDAR
