BEGIN:VCALENDAR
VERSION:2.0
PRODID:-//Plone.org//NONSGML plone.app.event//EN
X-WR-TIMEZONE:US/Central
BEGIN:VEVENT
SUMMARY:Teen Time at the Library: Spooktacular No-Carve Pumpkin Decorating
DTSTART;TZID=US/Central:20231009T170000
DTEND;TZID=US/Central:20231009T180000
DTSTAMP:20260420T092426Z
UID:e5cfb3b9547c462b98698724fc0a29b0@saas_stack_varnish:6080
CONTACT:Tracy Lambert Jack\, 8174416545\, programs@epclibrary.com
CREATED:20231013T201313Z
DESCRIPTION:Middle and High Schoolers! Help decorate the library by transf
 orming pumpkins into favorite book characters. Monday @ 5PM
LAST-MODIFIED:20231013T201346Z
LOCATION:East Parker County Library
URL:https://eastparkercounty.ploud.net/news-events/teen-time-at-the-librar
 y-spooktacular-no-carve-pumpkin-decorating
END:VEVENT
BEGIN:VTIMEZONE
TZID:US/Central
X-LIC-LOCATION:US/Central
BEGIN:DAYLIGHT
DTSTART:20230312T030000
TZNAME:CDT
TZOFFSETFROM:-0600
TZOFFSETTO:-0500
END:DAYLIGHT
END:VTIMEZONE
END:VCALENDAR
