BEGIN:VCALENDAR
VERSION:2.0
PRODID:-//Plone.org//NONSGML plone.app.event//EN
X-WR-TIMEZONE:US/Central
BEGIN:VEVENT
SUMMARY:Teen Time at the Library: Oregon Trail Live
DTSTART;TZID=US/Central:20231030T170000
DTEND;TZID=US/Central:20231030T180000
DTSTAMP:20260420T094018Z
UID:cd8eb32add2440cfb746d19c06b6e0bd@saas_stack_varnish:6080
CONTACT:Tracy Lambert Jack\, 8174416545\, programs@epclibrary.com
CREATED:20231013T201605Z
DESCRIPTION:Middle and High Schoolers! Live the dream\, or die of dysenter
 y.
LAST-MODIFIED:20231013T201613Z
LOCATION:East Parker County Library
URL:https://eastparkercounty.ploud.net/news-events/teen-time-at-the-librar
 y-oregon-trail-live
END:VEVENT
BEGIN:VTIMEZONE
TZID:US/Central
X-LIC-LOCATION:US/Central
BEGIN:DAYLIGHT
DTSTART:20230312T030000
TZNAME:CDT
TZOFFSETFROM:-0600
TZOFFSETTO:-0500
END:DAYLIGHT
END:VTIMEZONE
END:VCALENDAR
