BEGIN:VCALENDAR
VERSION:2.0
PRODID:-//Plone.org//NONSGML plone.app.event//EN
X-WR-TIMEZONE:US/Central
BEGIN:VEVENT
SUMMARY:Teen Time at the Library: Nailed It! Cookie Experience
DTSTART;TZID=US/Central:20230710T170000
DTEND;TZID=US/Central:20230710T180000
DTSTAMP:20260420T092246Z
UID:43cbccad71374a0b930d6f568c55a497@saas_stack_varnish:6080
CONTACT:Tracy Lambert Jack\, 8174416545\, programs@epclibrary.com
CREATED:20230702T145159Z
DESCRIPTION:Middle and high schoolers! Bring in a picture and re-create it
  on a cookie to make an edible masterpiece. Materials provided. Monday fro
 m 5-6PM at the Library.
LAST-MODIFIED:20230702T145204Z
LOCATION:East Parker County Library
URL:https://eastparkercounty.ploud.net/news-events/teen-time-at-the-librar
 y-nailed-it-cookie-experience
END:VEVENT
BEGIN:VTIMEZONE
TZID:US/Central
X-LIC-LOCATION:US/Central
BEGIN:DAYLIGHT
DTSTART:20230312T030000
TZNAME:CDT
TZOFFSETFROM:-0600
TZOFFSETTO:-0500
END:DAYLIGHT
END:VTIMEZONE
END:VCALENDAR
