BEGIN:VCALENDAR
VERSION:2.0
PRODID:-//Plone.org//NONSGML plone.app.event//EN
X-WR-TIMEZONE:US/Central
BEGIN:VEVENT
SUMMARY:Teen Time at the Library: Friendsgiving Pie Party
DTSTART;TZID=US/Central:20231113T170000
DTEND;TZID=US/Central:20231113T180000
DTSTAMP:20260420T092353Z
UID:ecc43e6ec14b42bcadf34764fa89d4cf@saas_stack_varnish:6080
CONTACT:Tracy Lambert Jack\, programs@epclibrary.com
CREATED:20231117T165514Z
DESCRIPTION:Middle and High Schoolers -- join us at the library for no bak
 e mini pie making!
LAST-MODIFIED:20231117T165524Z
URL:https://eastparkercounty.ploud.net/news-events/teen-time-at-the-librar
 y-friendsgiving-pie-party
END:VEVENT
BEGIN:VTIMEZONE
TZID:US/Central
X-LIC-LOCATION:US/Central
BEGIN:STANDARD
DTSTART:20231105T010000
TZNAME:CST
TZOFFSETFROM:-0500
TZOFFSETTO:-0600
END:STANDARD
END:VTIMEZONE
END:VCALENDAR
