BEGIN:VCALENDAR
VERSION:2.0
PRODID:-//Plone.org//NONSGML plone.app.event//EN
X-WR-TIMEZONE:US/Central
BEGIN:VEVENT
SUMMARY:Teen Time at the Library: ART Together Now
DTSTART;TZID=US/Central:20230612T170000
DTEND;TZID=US/Central:20230612T180000
DTSTAMP:20260420T092252Z
UID:449223e21948407598696ad9a3a9ad07@saas_stack_varnish:6080
CONTACT:Tracy Lambert Jack\, 8174416545\, epclibraryprograms@gmail.com
CREATED:20230612T135209Z
DESCRIPTION:Middle and High Schoolers! Visit the library for an hour of ar
 t -- "bad"\, collaborative\, or something in-between. You choose! Snacks p
 rovided.
LAST-MODIFIED:20230612T135223Z
LOCATION:East Parker County Library
URL:https://eastparkercounty.ploud.net/news-events/teen-time-at-the-librar
 y-art-together-now
END:VEVENT
BEGIN:VTIMEZONE
TZID:US/Central
X-LIC-LOCATION:US/Central
BEGIN:DAYLIGHT
DTSTART:20230312T030000
TZNAME:CDT
TZOFFSETFROM:-0600
TZOFFSETTO:-0500
END:DAYLIGHT
END:VTIMEZONE
END:VCALENDAR
