BEGIN:VCALENDAR
VERSION:2.0
PRODID:-//Plone.org//NONSGML plone.app.event//EN
X-WR-TIMEZONE:US/Central
BEGIN:VEVENT
SUMMARY:Teen Origami Hour
DTSTART;TZID=US/Central:20230410T170000
DTEND;TZID=US/Central:20230410T180000
DTSTAMP:20260420T110231Z
UID:54b7b2cf6b4b4a228eade7ace2819a81@saas_stack_varnish:6080
CONTACT:Tracy Lambert Jack\, 8174416545\, programs@epclibrary.com
CREATED:20230405T144556Z
DESCRIPTION:Middle and High Schoolers! \nSpend an hour at the East Parker 
 County Library  \ncrafting a collaborative display. \nSnacks provided!! \n
 Monday\, April 10th  @ 5PM
LAST-MODIFIED:20230405T144602Z
LOCATION:East Parker County Library
URL:https://eastparkercounty.ploud.net/news-events/teen-origami-hour
END:VEVENT
BEGIN:VTIMEZONE
TZID:US/Central
X-LIC-LOCATION:US/Central
BEGIN:DAYLIGHT
DTSTART:20230312T030000
TZNAME:CDT
TZOFFSETFROM:-0600
TZOFFSETTO:-0500
END:DAYLIGHT
END:VTIMEZONE
END:VCALENDAR
