BEGIN:VCALENDAR
VERSION:2.0
PRODID:-//Plone.org//NONSGML plone.app.event//EN
X-WR-TIMEZONE:US/Central
BEGIN:VEVENT
SUMMARY:Storytime at the Library
DTSTART;TZID=US/Central:20230804T103000
DTSTAMP:20260420T104119Z
UID:8b3ee0b831b5458bad91caf25d16b60a@saas_stack_varnish:6080
CREATED:20230818T162511Z
DESCRIPTION:Stories\, craft\, songs\, and snack plus puzzle and play befor
 e and afterwards.
LAST-MODIFIED:20230818T162519Z
URL:https://eastparkercounty.ploud.net/news-events/storytime-at-the-librar
 y
END:VEVENT
BEGIN:VTIMEZONE
TZID:US/Central
X-LIC-LOCATION:US/Central
BEGIN:DAYLIGHT
DTSTART:20230312T030000
TZNAME:CDT
TZOFFSETFROM:-0600
TZOFFSETTO:-0500
END:DAYLIGHT
END:VTIMEZONE
END:VCALENDAR
