BEGIN:VCALENDAR
VERSION:2.0
PRODID:-//Plone.org//NONSGML plone.app.event//EN
X-WR-TIMEZONE:US/Central
BEGIN:VEVENT
SUMMARY:Winter Craft Workshop
DTSTART;TZID=US/Central:20231222T100000
DTEND;TZID=US/Central:20231222T120000
DTSTAMP:20260420T091616Z
UID:f0efbaaa7cfd41059994e1bc4e09bb14@saas_stack_varnish:6080
RRULE:FREQ=WEEKLY;COUNT=7;BYDAY=FR
EXDATE;TZID=US/Central:20231229T000000,20240105T000000,20240112T000000,202
 40119T000000,20240126T000000,20240202T000000
CONTACT:Tracy Lambert Jack\, 8174416545\, programs@epclibrary.com
CREATED:20230901T162434Z
DESCRIPTION:Visit the library on Friday\, December 22nd for a morning of m
 usic and ornament-making. \n\nSuitable for ALL ages. Puzzle and play in th
 e children’s area will be available. This is a come-and-go event.
LAST-MODIFIED:20231213T180714Z
LOCATION:East Parker County Library
URL:https://eastparkercounty.ploud.net/news-events/storytime-at-the-librar
 y-1
END:VEVENT
BEGIN:VTIMEZONE
TZID:US/Central
X-LIC-LOCATION:US/Central
BEGIN:STANDARD
DTSTART:20231105T010000
TZNAME:CST
TZOFFSETFROM:-0500
TZOFFSETTO:-0600
END:STANDARD
END:VTIMEZONE
END:VCALENDAR
