BEGIN:VCALENDAR
VERSION:2.0
PRODID:-//Plone.org//NONSGML plone.app.event//EN
X-WR-TIMEZONE:US/Central
BEGIN:VEVENT
SUMMARY:Storytime
DTSTART;TZID=US/Central:20230428T103000
DTEND;TZID=US/Central:20230428T120000
DTSTAMP:20260420T110737Z
UID:4ee979ba404a4fcea6a58e9ba72a5318@saas_stack_varnish:6080
CONTACT:Tracy Lambert Jack\, 8174416545\, programs@epclibrary.com
CREATED:20230405T144401Z
DESCRIPTION:Join us this April as we read through the Texas 2x2 books alon
 g with enjoying crafts\, songs\, puzzle&play\, and snacks! The Texas 2x2 r
 eading list are books chosen every year that are recommended reading for c
 hildren ages 2 through second grade.
LAST-MODIFIED:20230405T144415Z
LOCATION:East Parker County Library
URL:https://eastparkercounty.ploud.net/news-events/storytime-1/2023-04-28
END:VEVENT
BEGIN:VTIMEZONE
TZID:US/Central
X-LIC-LOCATION:US/Central
BEGIN:DAYLIGHT
DTSTART:20230312T030000
TZNAME:CDT
TZOFFSETFROM:-0600
TZOFFSETTO:-0500
END:DAYLIGHT
END:VTIMEZONE
END:VCALENDAR
