BEGIN:VCALENDAR
VERSION:2.0
PRODID:-//Plone.org//NONSGML plone.app.event//EN
X-WR-TIMEZONE:US/Central
BEGIN:VEVENT
SUMMARY:North Texas Giving Day
DTSTART;VALUE=DATE:20230921
DTEND;VALUE=DATE:20230922
DTSTAMP:20260420T091406Z
UID:fad1c1df2c68462692125e0c8b81c156@saas_stack_varnish:6080
CONTACT:Shawna Ford\, president@epclibrary.com\, https://www.northtexasgiv
 ingday.org/organization/East-Parker-County-Library
CREATED:20230916T153910Z
DESCRIPTION:North Texas Giving Day is an annual giving event created to em
 power every person to give back to their community by supporting local non
 profits and causes they champion! \nYour East Parker County Library has op
 erated since July 14\, 1994 (almost 30 years!) as a 501(c)(3) non-profit p
 roviding free borrowing services as well as print and electronic reference
  resources\, access the Internet through our public computers and WI-FI\, 
 programming\, and more to all residents in Parker County and Aledo ISD.  \
 nFind your passion. Give with purpose. Early giving is open now!\n\n#NTXGi
 vingDay2023
LAST-MODIFIED:20230916T153919Z
LOCATION:ONLINE
URL:https://eastparkercounty.ploud.net/news-events/north-texas-giving-day
END:VEVENT
END:VCALENDAR
