BEGIN:VCALENDAR
VERSION:2.0
PRODID:-//Plone.org//NONSGML plone.app.event//EN
X-WR-TIMEZONE:US/Central
BEGIN:VEVENT
SUMMARY:Mini Music Class with Destiny Voice & Music Studio
DTSTART;TZID=US/Central:20230710T103000
DTEND;TZID=US/Central:20230710T113000
DTSTAMP:20260420T091939Z
UID:309dd42b4d3243e6b3687ddbc362ff85@saas_stack_varnish:6080
CONTACT:Tracy Lambert Jack\, 8174416545\, programs@epclibrary.com
CREATED:20230702T145358Z
DESCRIPTION:join Destiny Studio at the library for a free drop-in music cl
 ass! Mini Music is a parent-child group class for 0-4 year olds. Monday at
  10:30AM.
LAST-MODIFIED:20230702T145407Z
LOCATION:East Parker County Library
URL:https://eastparkercounty.ploud.net/news-events/mini-music-class-with-d
 estiny-voice-music-studio
END:VEVENT
BEGIN:VTIMEZONE
TZID:US/Central
X-LIC-LOCATION:US/Central
BEGIN:DAYLIGHT
DTSTART:20230312T030000
TZNAME:CDT
TZOFFSETFROM:-0600
TZOFFSETTO:-0500
END:DAYLIGHT
END:VTIMEZONE
END:VCALENDAR
