BEGIN:VCALENDAR
VERSION:2.0
PRODID:-//Plone.org//NONSGML plone.app.event//EN
X-WR-TIMEZONE:US/Central
BEGIN:VEVENT
SUMMARY:Librarian on Location Storytime
DTSTART;TZID=US/Central:20230918T103000
DTEND;TZID=US/Central:20230918T110000
DTSTAMP:20260420T091441Z
UID:177522d1988245caaa894abe202d03f6@saas_stack_varnish:6080
CONTACT:Tracy Lambert Jack\, 8174416545\, programs@epclibrary.com
CREATED:20230916T154104Z
DESCRIPTION:Join a librarian on Monday\, September 18\, 2023 at Two Sister
 s Teahouse for storytime on location.
LAST-MODIFIED:20230916T154110Z
URL:https://eastparkercounty.ploud.net/news-events/librarian-on-location-s
 torytime
END:VEVENT
BEGIN:VTIMEZONE
TZID:US/Central
X-LIC-LOCATION:US/Central
BEGIN:DAYLIGHT
DTSTART:20230312T030000
TZNAME:CDT
TZOFFSETFROM:-0600
TZOFFSETTO:-0500
END:DAYLIGHT
END:VTIMEZONE
END:VCALENDAR
