BEGIN:VCALENDAR
VERSION:2.0
PRODID:-//Plone.org//NONSGML plone.app.event//EN
X-WR-TIMEZONE:US/Central
BEGIN:VEVENT
SUMMARY:Librarian on Location: Christmas Tyme in Aledo
DTSTART;TZID=US/Central:20231202T170000
DTEND;TZID=US/Central:20231202T210000
DTSTAMP:20260420T092031Z
UID:eb3bfaa6b1fe4b2ab73189a162826804@saas_stack_varnish:6080
CONTACT:Tracy Lambert Jack\, programs@epclibrary.com
CREATED:20231117T165804Z
DESCRIPTION:Join the library on location at Christmas Tyme in Aledo for ho
 liday crafts and Letters to Santa!
LAST-MODIFIED:20231117T165813Z
LOCATION:Aledo
URL:https://eastparkercounty.ploud.net/news-events/librarian-on-location-c
 hristmas-tyme-in-aledo
END:VEVENT
BEGIN:VTIMEZONE
TZID:US/Central
X-LIC-LOCATION:US/Central
BEGIN:STANDARD
DTSTART:20231105T010000
TZNAME:CST
TZOFFSETFROM:-0500
TZOFFSETTO:-0600
END:STANDARD
END:VTIMEZONE
END:VCALENDAR
