BEGIN:VCALENDAR
VERSION:2.0
PRODID:-//Plone.org//NONSGML plone.app.event//EN
X-WR-TIMEZONE:US/Central
BEGIN:VEVENT
SUMMARY:Visit with a Veterinarian
DTSTART;TZID=US/Central:20210728T150000
DTEND;TZID=US/Central:20210728T160000
DTSTAMP:20260420T091653Z
UID:3f28efd3be1b403caed32ef50e543252@saas_stack_varnish:6080
CREATED:20210618T194650Z
LAST-MODIFIED:20210618T194656Z
LOCATION:East Parker County Library
URL:https://eastparkercounty.ploud.net/news-events/lib-cal/visit-with-a-ve
 terinarian
END:VEVENT
BEGIN:VTIMEZONE
TZID:US/Central
X-LIC-LOCATION:US/Central
BEGIN:DAYLIGHT
DTSTART:20210314T030000
TZNAME:CDT
TZOFFSETFROM:-0600
TZOFFSETTO:-0500
END:DAYLIGHT
END:VTIMEZONE
END:VCALENDAR
