BEGIN:VCALENDAR
VERSION:2.0
PRODID:-//Plone.org//NONSGML plone.app.event//EN
X-WR-TIMEZONE:US/Central
BEGIN:VEVENT
SUMMARY:Upper Trinity River Conservation Water Truck Education Experience
DTSTART;TZID=US/Central:20210717T100000
DTEND;TZID=US/Central:20210717T130000
DTSTAMP:20260420T091949Z
UID:4de1ea37766244de9647b95aae26e307@saas_stack_varnish:6080
CREATED:20210618T194152Z
LAST-MODIFIED:20210618T194157Z
LOCATION:East Parker County Library
URL:https://eastparkercounty.ploud.net/news-events/lib-cal/upper-trinity-r
 iver-conservation-water-truck-education-experience
END:VEVENT
BEGIN:VTIMEZONE
TZID:US/Central
X-LIC-LOCATION:US/Central
BEGIN:DAYLIGHT
DTSTART:20210314T030000
TZNAME:CDT
TZOFFSETFROM:-0600
TZOFFSETTO:-0500
END:DAYLIGHT
END:VTIMEZONE
END:VCALENDAR
