BEGIN:VCALENDAR
VERSION:2.0
PRODID:-//Plone.org//NONSGML plone.app.event//EN
X-WR-TIMEZONE:US/Central
BEGIN:VEVENT
SUMMARY:Storytime with the Alpacas of Aledo
DTSTART;TZID=US/Central:20210710T103000
DTEND;TZID=US/Central:20210710T113000
DTSTAMP:20260420T092252Z
UID:717f351f387743d986ab7744055ccc86@saas_stack_varnish:6080
CREATED:20210618T192256Z
LAST-MODIFIED:20210618T195144Z
LOCATION:Aledo Community Center Park
URL:https://eastparkercounty.ploud.net/news-events/lib-cal/storytime-with-
 the-alpacas-of-aledo
END:VEVENT
BEGIN:VTIMEZONE
TZID:US/Central
X-LIC-LOCATION:US/Central
BEGIN:DAYLIGHT
DTSTART:20210314T030000
TZNAME:CDT
TZOFFSETFROM:-0600
TZOFFSETTO:-0500
END:DAYLIGHT
END:VTIMEZONE
END:VCALENDAR
