BEGIN:VCALENDAR
VERSION:2.0
PRODID:-//Plone.org//NONSGML plone.app.event//EN
X-WR-TIMEZONE:US/Central
BEGIN:VEVENT
SUMMARY:Storytime with Principal Street\, Walsh Elementary
DTSTART;TZID=US/Central:20210629T103000
DTEND;TZID=US/Central:20210629T110000
DTSTAMP:20260420T092113Z
UID:53a6e7b656d1419796e17c297683a20f@saas_stack_varnish:6080
CREATED:20210618T184356Z
LAST-MODIFIED:20210618T194437Z
LOCATION:Aledo Community Center Park
URL:https://eastparkercounty.ploud.net/news-events/lib-cal/storytime-with-
 principal-street-walsh-elementary
END:VEVENT
BEGIN:VTIMEZONE
TZID:US/Central
X-LIC-LOCATION:US/Central
BEGIN:DAYLIGHT
DTSTART:20210314T030000
TZNAME:CDT
TZOFFSETFROM:-0600
TZOFFSETTO:-0500
END:DAYLIGHT
END:VTIMEZONE
END:VCALENDAR
