BEGIN:VCALENDAR
VERSION:2.0
PRODID:-//Plone.org//NONSGML plone.app.event//EN
X-WR-TIMEZONE:US/Central
BEGIN:VEVENT
SUMMARY:Storytime with Principal Maroney\, Vandagriff Elementary
DTSTART;TZID=US/Central:20210723T103000
DTEND;TZID=US/Central:20210723T110000
DTSTAMP:20260420T110257Z
UID:f55f7a929c3c453bb760bd38dfbad729@saas_stack_varnish:6080
CREATED:20210618T193343Z
LAST-MODIFIED:20210723T173546Z
LOCATION:Aledo Community Center Park
URL:https://eastparkercounty.ploud.net/news-events/lib-cal/storytime-with-
 principal-sadler-mccall-elementary
END:VEVENT
BEGIN:VTIMEZONE
TZID:US/Central
X-LIC-LOCATION:US/Central
BEGIN:DAYLIGHT
DTSTART:20210314T030000
TZNAME:CDT
TZOFFSETFROM:-0600
TZOFFSETTO:-0500
END:DAYLIGHT
END:VTIMEZONE
END:VCALENDAR
