BEGIN:VCALENDAR
VERSION:2.0
PRODID:-//Plone.org//NONSGML plone.app.event//EN
X-WR-TIMEZONE:US/Central
BEGIN:VEVENT
SUMMARY:Storytime with Principal Sadler\, McCall Elementary
DTSTART;TZID=US/Central:20210730T103000
DTEND;TZID=US/Central:20210730T110000
DTSTAMP:20260420T092221Z
UID:961ea4eb9d5e494dbc2f1c3f581815bc@saas_stack_varnish:6080
CREATED:20210618T194548Z
LAST-MODIFIED:20210723T173622Z
LOCATION:Aledo Community Center Park
URL:https://eastparkercounty.ploud.net/news-events/lib-cal/storytime-with-
 principal-maroney-vandagriff-elementary
END:VEVENT
BEGIN:VTIMEZONE
TZID:US/Central
X-LIC-LOCATION:US/Central
BEGIN:DAYLIGHT
DTSTART:20210314T030000
TZNAME:CDT
TZOFFSETFROM:-0600
TZOFFSETTO:-0500
END:DAYLIGHT
END:VTIMEZONE
END:VCALENDAR
