BEGIN:VCALENDAR
VERSION:2.0
PRODID:-//Plone.org//NONSGML plone.app.event//EN
X-WR-TIMEZONE:US/Central
BEGIN:VEVENT
SUMMARY:Storytime with Norman\, Resident Dog from Weatherford Animal Shelt
 er
DTSTART;TZID=US/Central:20210708T103000
DTEND;TZID=US/Central:20210708T113000
DTSTAMP:20260420T092435Z
UID:6417063d2c874e15845596c9e3a84681@saas_stack_varnish:6080
CREATED:20210618T190921Z
LAST-MODIFIED:20210618T194238Z
LOCATION:Aledo Community Center Park
URL:https://eastparkercounty.ploud.net/news-events/lib-cal/storytime-with-
 norman-resident-dog-from-weatherford-animal-shelter
END:VEVENT
BEGIN:VTIMEZONE
TZID:US/Central
X-LIC-LOCATION:US/Central
BEGIN:DAYLIGHT
DTSTART:20210314T030000
TZNAME:CDT
TZOFFSETFROM:-0600
TZOFFSETTO:-0500
END:DAYLIGHT
END:VTIMEZONE
END:VCALENDAR
