BEGIN:VCALENDAR
VERSION:2.0
PRODID:-//Plone.org//NONSGML plone.app.event//EN
X-WR-TIMEZONE:US/Central
BEGIN:VEVENT
SUMMARY:Storytime: One Word Project
DTSTART;TZID=US/Central:20230106T103000
DTSTAMP:20260420T091626Z
UID:3769a9cd84c847c79c49da311ec4addf@saas_stack_varnish:6080
CONTACT:Tracy Lambert Jack\, 8174416545\, programs@epclibrary.com
CREATED:20230105T005531Z
DESCRIPTION:Join us for our first 2023 storytime as we read about the One 
 Word Project! Storytime includes books\, craft\, songs\, and snack\, plus 
 puzzle and play.
LAST-MODIFIED:20230105T005541Z
LOCATION:East Parker County Library
URL:https://eastparkercounty.ploud.net/news-events/lib-cal/storytime-one-w
 ord-project
END:VEVENT
BEGIN:VTIMEZONE
TZID:US/Central
X-LIC-LOCATION:US/Central
BEGIN:STANDARD
DTSTART:20221106T010000
TZNAME:CST
TZOFFSETFROM:-0500
TZOFFSETTO:-0600
END:STANDARD
END:VTIMEZONE
END:VCALENDAR
