BEGIN:VCALENDAR
VERSION:2.0
PRODID:-//Plone.org//NONSGML plone.app.event//EN
X-WR-TIMEZONE:US/Central
BEGIN:VEVENT
SUMMARY:Storytime at the Library
DTSTART;TZID=US/Central:20230210T103000
DTSTAMP:20260420T105418Z
UID:f329aba1f8e84e9fa22eaa03d6be55e7@saas_stack_varnish:6080
CONTACT:Tracy Lambert Jack\, 8174416545\, programs@epclibrary.com
CREATED:20230206T161326Z
DESCRIPTION:Join us on Fridays for puzzle and play\, books\, craft\, songs
 \, and snack! Storytime start at 10:30AM. Our February/March theme is Frac
 tured Fairytales!
LAST-MODIFIED:20230206T161339Z
LOCATION:East Parker County Library
URL:https://eastparkercounty.ploud.net/news-events/lib-cal/storytime-at-th
 e-library
END:VEVENT
BEGIN:VTIMEZONE
TZID:US/Central
X-LIC-LOCATION:US/Central
BEGIN:STANDARD
DTSTART:20221106T010000
TZNAME:CST
TZOFFSETFROM:-0500
TZOFFSETTO:-0600
END:STANDARD
END:VTIMEZONE
END:VCALENDAR
