BEGIN:VCALENDAR
VERSION:2.0
PRODID:-//Plone.org//NONSGML plone.app.event//EN
X-WR-TIMEZONE:US/Central
BEGIN:VEVENT
SUMMARY:Storytime at the Library
DTSTART;TZID=US/Central:20230303T103000
DTEND;TZID=US/Central:20230303T113000
DTSTAMP:20260420T144635Z
UID:04c013e69a1c4494a80a2157e2058c27@saas_stack_varnish:6080
CONTACT:Tracy Lambert Jack\, 8174416545\, programs@epclibrary.com
CREATED:20230214T173601Z
DESCRIPTION:Join us for our storytime series featuring Fractured Fairytale
 s! Books\, song\, craft\, and snack plus time for puzzle and play. Library
  dogs will "read" on March 10th.
LAST-MODIFIED:20230214T173614Z
LOCATION:East Parker County Library
URL:https://eastparkercounty.ploud.net/news-events/lib-cal/storytime-at-th
 e-library-1/2023-03-03
END:VEVENT
BEGIN:VTIMEZONE
TZID:US/Central
X-LIC-LOCATION:US/Central
BEGIN:STANDARD
DTSTART:20221106T010000
TZNAME:CST
TZOFFSETFROM:-0500
TZOFFSETTO:-0600
END:STANDARD
END:VTIMEZONE
END:VCALENDAR
