BEGIN:VCALENDAR
VERSION:2.0
PRODID:-//Plone.org//NONSGML plone.app.event//EN
X-WR-TIMEZONE:US/Central
BEGIN:VEVENT
SUMMARY:Storytime
DTSTART;TZID=US/Central:20221216T103000
DTEND;TZID=US/Central:20221216T113000
DTSTAMP:20260420T091406Z
UID:07ffa6124eb643d9b5854014e8d92a6a@saas_stack_varnish:6080
CONTACT:Tracy Lamber Jack\, 817-441-6545\, programs@epclibrary.com
CREATED:20221213T174144Z
DESCRIPTION:Miss Tracy will be reading about One Mitten and we will have a
 n artistic craft with Sketch Art Studio!
LAST-MODIFIED:20221213T174153Z
LOCATION:EPCL
URL:https://eastparkercounty.ploud.net/news-events/lib-cal/storytime-1
END:VEVENT
BEGIN:VTIMEZONE
TZID:US/Central
X-LIC-LOCATION:US/Central
BEGIN:STANDARD
DTSTART:20221106T010000
TZNAME:CST
TZOFFSETFROM:-0500
TZOFFSETTO:-0600
END:STANDARD
END:VTIMEZONE
END:VCALENDAR
