BEGIN:VCALENDAR
VERSION:2.0
PRODID:-//Plone.org//NONSGML plone.app.event//EN
X-WR-TIMEZONE:US/Central
BEGIN:VEVENT
SUMMARY:Story time with Ms. Connie
DTSTART;TZID=US/Central:20171006T103000
DTEND;TZID=US/Central:20171006T113000
DTSTAMP:20260420T091652Z
UID:204340b4755c4ebab22530c04bfbc355@saas_stack_varnish:6080
CREATED:20170929T200953Z
DESCRIPTION:Join us when Ms. Connie reads The Library Mouse!  She may even
  have a fuzzy surprise for our young readers!
LAST-MODIFIED:20170929T201005Z
LOCATION:EPCL
URL:https://eastparkercounty.ploud.net/news-events/lib-cal/story-time-with
 -ms-connie-2
END:VEVENT
BEGIN:VTIMEZONE
TZID:US/Central
X-LIC-LOCATION:US/Central
BEGIN:DAYLIGHT
DTSTART:20170312T030000
TZNAME:CDT
TZOFFSETFROM:-0600
TZOFFSETTO:-0500
END:DAYLIGHT
END:VTIMEZONE
END:VCALENDAR
