BEGIN:VCALENDAR
VERSION:2.0
PRODID:-//Plone.org//NONSGML plone.app.event//EN
X-WR-TIMEZONE:US/Central
BEGIN:VEVENT
SUMMARY:Story time with Lucy & Schroeder
DTSTART;TZID=US/Central:20170908T103000
DTEND;TZID=US/Central:20170908T113000
DTSTAMP:20260420T091950Z
UID:810dc14fd6fc4cbf87388586592aae3f@saas_stack_varnish:6080
CREATED:20170830T184712Z
DESCRIPTION:Join our favorite pups for a new story adventure!
LAST-MODIFIED:20170830T184720Z
LOCATION:EPCL
URL:https://eastparkercounty.ploud.net/news-events/lib-cal/story-time-with
 -lucy-schroeder
END:VEVENT
BEGIN:VTIMEZONE
TZID:US/Central
X-LIC-LOCATION:US/Central
BEGIN:DAYLIGHT
DTSTART:20170312T030000
TZNAME:CDT
TZOFFSETFROM:-0600
TZOFFSETTO:-0500
END:DAYLIGHT
END:VTIMEZONE
END:VCALENDAR
