BEGIN:VCALENDAR
VERSION:2.0
PRODID:-//Plone.org//NONSGML plone.app.event//EN
X-WR-TIMEZONE:US/Central
BEGIN:VEVENT
SUMMARY:Story time with Lucy & Schroeder
DTSTART;TZID=US/Central:20171013T103000
DTEND;TZID=US/Central:20171013T113000
DTSTAMP:20260420T092032Z
UID:7bd9e3cf4e5148feabf04f7d5edffb57@saas_stack_varnish:6080
CREATED:20170929T201126Z
DESCRIPTION:Join Lucy and Schroeder for a morning of reading and tricks!
LAST-MODIFIED:20170929T201133Z
LOCATION:EPCL
URL:https://eastparkercounty.ploud.net/news-events/lib-cal/story-time-with
 -lucy-schroeder-1
END:VEVENT
BEGIN:VTIMEZONE
TZID:US/Central
X-LIC-LOCATION:US/Central
BEGIN:DAYLIGHT
DTSTART:20170312T030000
TZNAME:CDT
TZOFFSETFROM:-0600
TZOFFSETTO:-0500
END:DAYLIGHT
END:VTIMEZONE
END:VCALENDAR
