BEGIN:VCALENDAR
VERSION:2.0
PRODID:-//Plone.org//NONSGML plone.app.event//EN
X-WR-TIMEZONE:US/Central
BEGIN:VEVENT
SUMMARY:Story time with Kristin Bryan!
DTSTART;TZID=US/Central:20170721T103000
DTEND;TZID=US/Central:20170721T113000
DTSTAMP:20260420T091949Z
UID:111cbdb129234d4c8ee912da0176cd17@saas_stack_varnish:6080
CREATED:20170608T205414Z
DESCRIPTION:Join us for story time with Ms. Kristin\, The Crawdad Lady!  S
 ee what new adventures Ms. Crawdad is up to!
LAST-MODIFIED:20170608T205421Z
LOCATION:EPCL
URL:https://eastparkercounty.ploud.net/news-events/lib-cal/story-time-with
 -kristin-bryan-1
END:VEVENT
BEGIN:VTIMEZONE
TZID:US/Central
X-LIC-LOCATION:US/Central
BEGIN:DAYLIGHT
DTSTART:20170312T030000
TZNAME:CDT
TZOFFSETFROM:-0600
TZOFFSETTO:-0500
END:DAYLIGHT
END:VTIMEZONE
END:VCALENDAR
