BEGIN:VCALENDAR
VERSION:2.0
PRODID:-//Plone.org//NONSGML plone.app.event//EN
X-WR-TIMEZONE:US/Central
BEGIN:VEVENT
SUMMARY:Story time with Kristi Daniels
DTSTART;TZID=US/Central:20171020T103000
DTEND;TZID=US/Central:20171020T113000
DTSTAMP:20260420T092010Z
UID:e29e114cd45c4a82b7806d0dd9e926c8@saas_stack_varnish:6080
CREATED:20170929T201657Z
DESCRIPTION:Join us for our first community reader!  We looked to our gene
 rous community for some volunteer readers and received a great response.  
 We are looking forward to all the book choices!
LAST-MODIFIED:20170929T201708Z
LOCATION:EPCL
URL:https://eastparkercounty.ploud.net/news-events/lib-cal/story-time-with
 -kristi-daniels
END:VEVENT
BEGIN:VTIMEZONE
TZID:US/Central
X-LIC-LOCATION:US/Central
BEGIN:DAYLIGHT
DTSTART:20170312T030000
TZNAME:CDT
TZOFFSETFROM:-0600
TZOFFSETTO:-0500
END:DAYLIGHT
END:VTIMEZONE
END:VCALENDAR
