BEGIN:VCALENDAR
VERSION:2.0
PRODID:-//Plone.org//NONSGML plone.app.event//EN
X-WR-TIMEZONE:US/Central
BEGIN:VEVENT
SUMMARY:Story time with Krista Doyle
DTSTART;TZID=US/Central:20171027T103000
DTEND;TZID=US/Central:20171027T113000
DTSTAMP:20260420T091904Z
UID:f5ca7785887b4999a5f41306f873f009@saas_stack_varnish:6080
CREATED:20170929T201834Z
DESCRIPTION:Join us for our community reader series!  We asked for volunte
 er readers\, and our generous community responded.  Come and see what book
  we will read today!
LAST-MODIFIED:20170929T201842Z
LOCATION:EPCL
URL:https://eastparkercounty.ploud.net/news-events/lib-cal/story-time-with
 -krista-doyle
END:VEVENT
BEGIN:VTIMEZONE
TZID:US/Central
X-LIC-LOCATION:US/Central
BEGIN:DAYLIGHT
DTSTART:20170312T030000
TZNAME:CDT
TZOFFSETFROM:-0600
TZOFFSETTO:-0500
END:DAYLIGHT
END:VTIMEZONE
END:VCALENDAR
