BEGIN:VCALENDAR
VERSION:2.0
PRODID:-//Plone.org//NONSGML plone.app.event//EN
X-WR-TIMEZONE:US/Central
BEGIN:VEVENT
SUMMARY:Story time with Admiral Jim Lair
DTSTART;TZID=US/Central:20170915T103000
DTEND;TZID=US/Central:20170915T113000
DTSTAMP:20260420T092246Z
UID:021ce7335f074a5b9b02cc87e975b075@saas_stack_varnish:6080
CREATED:20170830T184920Z
DESCRIPTION:Join us when retired Admiral Lair reads to us about jet planes
 \, and tells us about his adventures in flight!
LAST-MODIFIED:20170830T185500Z
LOCATION:EPCL
URL:https://eastparkercounty.ploud.net/news-events/lib-cal/story-time-with
 -admiral-jim-lair
END:VEVENT
BEGIN:VTIMEZONE
TZID:US/Central
X-LIC-LOCATION:US/Central
BEGIN:DAYLIGHT
DTSTART:20170312T030000
TZNAME:CDT
TZOFFSETFROM:-0600
TZOFFSETTO:-0500
END:DAYLIGHT
END:VTIMEZONE
END:VCALENDAR
