BEGIN:VCALENDAR
VERSION:2.0
PRODID:-//Plone.org//NONSGML plone.app.event//EN
X-WR-TIMEZONE:US/Central
BEGIN:VEVENT
SUMMARY:Sign Language Storytime with Ms. Alli
DTSTART;TZID=US/Central:20230127T103000
DTEND;TZID=US/Central:20230127T113000
DTSTAMP:20260420T091725Z
UID:beda9ab082144bf28291658790f6cc15@saas_stack_varnish:6080
CONTACT:Tracy Lambert Jack\, 8174416545\, programs@epclibrary.com
CREATED:20230119T205325Z
LAST-MODIFIED:20230119T205329Z
LOCATION:East Parker County Library
URL:https://eastparkercounty.ploud.net/news-events/lib-cal/sign-language-s
 torytime-with-ms-alli
END:VEVENT
BEGIN:VTIMEZONE
TZID:US/Central
X-LIC-LOCATION:US/Central
BEGIN:STANDARD
DTSTART:20221106T010000
TZNAME:CST
TZOFFSETFROM:-0500
TZOFFSETTO:-0600
END:STANDARD
END:VTIMEZONE
END:VCALENDAR
