BEGIN:VCALENDAR
VERSION:2.0
PRODID:-//Plone.org//NONSGML plone.app.event//EN
X-WR-TIMEZONE:US/Central
BEGIN:VEVENT
SUMMARY:Open Lego Build
DTSTART;TZID=US/Central:20170711T103000
DTEND;TZID=US/Central:20170711T123000
DTSTAMP:20260420T091441Z
UID:d83c22a13f2744eb88cc3356b85da94c@saas_stack_varnish:6080
CREATED:20170608T204610Z
DESCRIPTION:Join us for Open Lego Build! Cash in your tickets to help buil
 d our community Lego\; build your own creation or use our Lego Challenge c
 ards to see what you can build!
LAST-MODIFIED:20170608T204615Z
LOCATION:EPCL
URL:https://eastparkercounty.ploud.net/news-events/lib-cal/open-lego-build
 -4
END:VEVENT
BEGIN:VTIMEZONE
TZID:US/Central
X-LIC-LOCATION:US/Central
BEGIN:DAYLIGHT
DTSTART:20170312T030000
TZNAME:CDT
TZOFFSETFROM:-0600
TZOFFSETTO:-0500
END:DAYLIGHT
END:VTIMEZONE
END:VCALENDAR
