BEGIN:VCALENDAR
VERSION:2.0
PRODID:-//Plone.org//NONSGML plone.app.event//EN
X-WR-TIMEZONE:US/Central
BEGIN:VEVENT
SUMMARY:North Texas Giving Day
DTSTART;VALUE=DATE:20170914
DTEND;VALUE=DATE:20170915
DTSTAMP:20260420T110737Z
UID:6f0bacbfe8f447f5b8cb058fd187b39a@saas_stack_varnish:6080
CREATED:20170913T161542Z
DESCRIPTION:Support EPCL on this day of giving!  We are the only non-profi
 t library in Parker County and we are here to serve the community!
LAST-MODIFIED:20170913T161558Z
URL:https://eastparkercounty.ploud.net/news-events/lib-cal/north-texas-giv
 ing-day-1
END:VEVENT
END:VCALENDAR
