BEGIN:VCALENDAR
VERSION:2.0
PRODID:-//Plone.org//NONSGML plone.app.event//EN
X-WR-TIMEZONE:US/Central
BEGIN:VEVENT
SUMMARY:Mini Music Class with Destiny Voice & Music Studio
DTSTART;TZID=US/Central:20230612T103000
DTEND;TZID=US/Central:20230612T113000
DTSTAMP:20260420T092010Z
UID:c6712307bb91476b82db1e044df499f5@saas_stack_varnish:6080
CONTACT:Tracy Lambert Jack\, 8174416545\, epclibraryprograms@gmail.com
CREATED:20230612T135021Z
DESCRIPTION:Join Destiny Voice & Music Studio (@destinystudio) at the libr
 ary for a fun\, free mini-music class (for our 0-4 year old friends and ca
 regivers).
LAST-MODIFIED:20230612T135029Z
LOCATION:East Parker County Library
URL:https://eastparkercounty.ploud.net/news-events/lib-cal/mini-music-clas
 s-with-destiny-voice-music-studio
END:VEVENT
BEGIN:VTIMEZONE
TZID:US/Central
X-LIC-LOCATION:US/Central
BEGIN:DAYLIGHT
DTSTART:20230312T030000
TZNAME:CDT
TZOFFSETFROM:-0600
TZOFFSETTO:-0500
END:DAYLIGHT
END:VTIMEZONE
END:VCALENDAR
