BEGIN:VCALENDAR
VERSION:2.0
PRODID:-//Plone.org//NONSGML plone.app.event//EN
X-WR-TIMEZONE:US/Central
BEGIN:VEVENT
SUMMARY:Mayor Stanley's Favorites Storytime
DTSTART;TZID=US/Central:20221111T103000
DTEND;TZID=US/Central:20221111T120000
DTSTAMP:20260420T092220Z
UID:0926d5f08d2d4c5a8baf712968e2869d@saas_stack_varnish:6080
CONTACT:Tracy Lambert Jack\, 8174416545\, programs@epclibrary.com
CREATED:20221103T175949Z
DESCRIPTION:Join Aledo Mayor Nick Stanley as he reads some of his favorite
  children's stories as we celebrate National Children's Book Week!\n\nStor
 ies\, Craft\, Songs\, Snack plus Puzzle and Play before and afterwards!
LAST-MODIFIED:20221103T180003Z
LOCATION:East Parker County Library
URL:https://eastparkercounty.ploud.net/news-events/lib-cal/mayor-stanleys-
 favorites-storytime
END:VEVENT
BEGIN:VTIMEZONE
TZID:US/Central
X-LIC-LOCATION:US/Central
BEGIN:STANDARD
DTSTART:20221106T010000
TZNAME:CST
TZOFFSETFROM:-0500
TZOFFSETTO:-0600
END:STANDARD
END:VTIMEZONE
END:VCALENDAR
