BEGIN:VCALENDAR
VERSION:2.0
PRODID:-//Plone.org//NONSGML plone.app.event//EN
X-WR-TIMEZONE:US/Central
BEGIN:VEVENT
SUMMARY:Makers Lab: Breathing Machine
DTSTART;TZID=US/Central:20170713T103000
DTEND;TZID=US/Central:20170713T113000
DTSTAMP:20260420T091316Z
UID:ced00a8fd11b415ea5e7209d0c91b05f@saas_stack_varnish:6080
CREATED:20170608T204816Z
LAST-MODIFIED:20170608T204823Z
LOCATION:EPCL
URL:https://eastparkercounty.ploud.net/news-events/lib-cal/makers-lab-brea
 thing-machine
END:VEVENT
BEGIN:VTIMEZONE
TZID:US/Central
X-LIC-LOCATION:US/Central
BEGIN:DAYLIGHT
DTSTART:20170312T030000
TZNAME:CDT
TZOFFSETFROM:-0600
TZOFFSETTO:-0500
END:DAYLIGHT
END:VTIMEZONE
END:VCALENDAR
