BEGIN:VCALENDAR
VERSION:2.0
PRODID:-//Plone.org//NONSGML plone.app.event//EN
X-WR-TIMEZONE:US/Central
BEGIN:VEVENT
SUMMARY:Library is Closed for Thanksgiving
DTSTART;VALUE=DATE:20171122
DTEND;VALUE=DATE:20171126
DTSTAMP:20260420T091744Z
UID:14d3617b15474287bba41341f103a28f@saas_stack_varnish:6080
CREATED:20170325T160639Z
LAST-MODIFIED:20170325T160645Z
URL:https://eastparkercounty.ploud.net/news-events/lib-cal/library-is-clos
 ed-for-thanksgiving-1
END:VEVENT
END:VCALENDAR
