BEGIN:VCALENDAR
VERSION:2.0
PRODID:-//Plone.org//NONSGML plone.app.event//EN
X-WR-TIMEZONE:US/Central
BEGIN:VEVENT
SUMMARY:Library is Closed for Labor Day Holiday
DTSTART;VALUE=DATE:20170902
DTEND;VALUE=DATE:20170903
DTSTAMP:20260420T091938Z
UID:ffcca46ebed6489cbbb9055eba261a4a@saas_stack_varnish:6080
CREATED:20170325T160521Z
LAST-MODIFIED:20170325T160525Z
URL:https://eastparkercounty.ploud.net/news-events/lib-cal/library-is-clos
 ed-for-labor-day-holiday
END:VEVENT
END:VCALENDAR
