BEGIN:VCALENDAR
VERSION:2.0
PRODID:-//Plone.org//NONSGML plone.app.event//EN
X-WR-TIMEZONE:US/Central
BEGIN:VEVENT
SUMMARY:Library Dogs READ Rhymes at Storytime
DTSTART;TZID=US/Central:20230113T103000
DTEND;TZID=US/Central:20230113T113000
DTSTAMP:20260420T093921Z
UID:d100e32de2814665babc61b4c60c6b80@saas_stack_varnish:6080
CONTACT:Tracy Lambert Jack\, 8174416545\, programs@epclibrary.com
CREATED:20230119T205010Z
LAST-MODIFIED:20230119T205015Z
LOCATION:East Parker County Library
URL:https://eastparkercounty.ploud.net/news-events/lib-cal/library-dogs-re
 ad-rhymes-at-storytime
END:VEVENT
BEGIN:VTIMEZONE
TZID:US/Central
X-LIC-LOCATION:US/Central
BEGIN:STANDARD
DTSTART:20221106T010000
TZNAME:CST
TZOFFSETFROM:-0500
TZOFFSETTO:-0600
END:STANDARD
END:VTIMEZONE
END:VCALENDAR
