BEGIN:VCALENDAR
VERSION:2.0
PRODID:-//Plone.org//NONSGML plone.app.event//EN
X-WR-TIMEZONE:US/Central
BEGIN:VEVENT
SUMMARY:Library Closed for New Year's Holiday
DTSTART;VALUE=DATE:20221230
DTEND;VALUE=DATE:20221231
DTSTAMP:20260420T093749Z
UID:c4d1324462484fbb9834d114cbb713f5@saas_stack_varnish:6080
CREATED:20221213T231505Z
LAST-MODIFIED:20221213T231514Z
URL:https://eastparkercounty.ploud.net/news-events/lib-cal/library-closed-
 for-new-years-holiday-1
END:VEVENT
END:VCALENDAR
