BEGIN:VCALENDAR
VERSION:2.0
PRODID:-//Plone.org//NONSGML plone.app.event//EN
X-WR-TIMEZONE:US/Central
BEGIN:VEVENT
SUMMARY:Library Closed for Christmas
DTSTART;VALUE=DATE:20221223
DTEND;VALUE=DATE:20221224
DTSTAMP:20260420T091523Z
UID:da065323833c44f694bc42c2a4a98f25@saas_stack_varnish:6080
CREATED:20221213T231258Z
LAST-MODIFIED:20221213T231305Z
URL:https://eastparkercounty.ploud.net/news-events/lib-cal/library-closed-
 for-christmas
END:VEVENT
END:VCALENDAR
