BEGIN:VCALENDAR
VERSION:2.0
PRODID:-//Plone.org//NONSGML plone.app.event//EN
X-WR-TIMEZONE:US/Central
BEGIN:VEVENT
SUMMARY:Library Closed for Christmas
DTSTART;VALUE=DATE:20221224
DTEND;VALUE=DATE:20221225
DTSTAMP:20260420T091824Z
UID:cf1907c81a5046eea9b71d15ab5bfaa7@saas_stack_varnish:6080
CREATED:20221207T175851Z
LAST-MODIFIED:20221213T231348Z
URL:https://eastparkercounty.ploud.net/news-events/lib-cal/library-closed-
 for-christmas-eve
END:VEVENT
END:VCALENDAR
