BEGIN:VCALENDAR
VERSION:2.0
PRODID:-//Plone.org//NONSGML plone.app.event//EN
X-WR-TIMEZONE:US/Central
BEGIN:VEVENT
SUMMARY:Library Board Meeting
DTSTART;TZID=US/Central:20230124T190000
DTEND;TZID=US/Central:20230124T203000
DTSTAMP:20260420T104114Z
UID:c22b69dfc6f6464b941f69858984921c@saas_stack_varnish:6080
CONTACT:Shawna Ford\, 817-441-6545\, president@epclibrary.com
CREATED:20221207T180156Z
DESCRIPTION:Board meetings are open to the public and community input is e
 ncouraged.
LAST-MODIFIED:20221207T180203Z
LOCATION:East Parker County Library
URL:https://eastparkercounty.ploud.net/news-events/lib-cal/library-board-m
 eeting
END:VEVENT
BEGIN:VTIMEZONE
TZID:US/Central
X-LIC-LOCATION:US/Central
BEGIN:STANDARD
DTSTART:20221106T010000
TZNAME:CST
TZOFFSETFROM:-0500
TZOFFSETTO:-0600
END:STANDARD
END:VTIMEZONE
END:VCALENDAR
