BEGIN:VCALENDAR
VERSION:2.0
PRODID:-//Plone.org//NONSGML plone.app.event//EN
X-WR-TIMEZONE:US/Central
BEGIN:VEVENT
SUMMARY:Library Board Meeting
DTSTART;TZID=US/Central:20230803T180000
DTEND;TZID=US/Central:20230803T193000
DTSTAMP:20260420T091448Z
UID:12d1a029c8244a2f8d8a8690fe7fea0e@saas_stack_varnish:6080
CONTACT:Shawna Ford\, 817-441-6545\, president@epclibrary.com
CREATED:20230707T185256Z
LAST-MODIFIED:20230707T185310Z
LOCATION:EPCL
URL:https://eastparkercounty.ploud.net/news-events/lib-cal/library-board-m
 eeting-4
END:VEVENT
BEGIN:VTIMEZONE
TZID:US/Central
X-LIC-LOCATION:US/Central
BEGIN:DAYLIGHT
DTSTART:20230312T030000
TZNAME:CDT
TZOFFSETFROM:-0600
TZOFFSETTO:-0500
END:DAYLIGHT
END:VTIMEZONE
END:VCALENDAR
