BEGIN:VCALENDAR
VERSION:2.0
PRODID:-//Plone.org//NONSGML plone.app.event//EN
X-WR-TIMEZONE:US/Central
BEGIN:VEVENT
SUMMARY:Library Board Meeting
DTSTART;TZID=US/Central:20230420T180000
DTEND;TZID=US/Central:20230420T193000
DTSTAMP:20260420T104124Z
UID:52e4d8d47f684678b4860461322b9476@saas_stack_varnish:6080
CONTACT:Shawna Ford\, 817-441-6545\, president@epclibrary.com
CREATED:20230331T014914Z
LAST-MODIFIED:20230331T014926Z
LOCATION:East Parker County Library
URL:https://eastparkercounty.ploud.net/news-events/lib-cal/library-board-m
 eeting-3
END:VEVENT
BEGIN:VTIMEZONE
TZID:US/Central
X-LIC-LOCATION:US/Central
BEGIN:DAYLIGHT
DTSTART:20230312T030000
TZNAME:CDT
TZOFFSETFROM:-0600
TZOFFSETTO:-0500
END:DAYLIGHT
END:VTIMEZONE
END:VCALENDAR
