BEGIN:VCALENDAR
VERSION:2.0
PRODID:-//Plone.org//NONSGML plone.app.event//EN
X-WR-TIMEZONE:US/Central
BEGIN:VEVENT
SUMMARY:Library Board Meeting
DTSTART;TZID=US/Central:20230322T180000
DTEND;TZID=US/Central:20230322T193000
DTSTAMP:20260420T104124Z
UID:3b83322846ff416399e53b47534e38dd@saas_stack_varnish:6080
CONTACT:Shawna Ford\, 817-445-6545\, president@epclibrary.com
CREATED:20230305T211910Z
DESCRIPTION:Board meeting for March.  Re-scheduled to this week due to spr
 ing break!
LAST-MODIFIED:20230305T211918Z
LOCATION:East Parker County Library
URL:https://eastparkercounty.ploud.net/news-events/lib-cal/library-board-m
 eeting-2
END:VEVENT
BEGIN:VTIMEZONE
TZID:US/Central
X-LIC-LOCATION:US/Central
BEGIN:DAYLIGHT
DTSTART:20230312T030000
TZNAME:CDT
TZOFFSETFROM:-0600
TZOFFSETTO:-0500
END:DAYLIGHT
END:VTIMEZONE
END:VCALENDAR
