BEGIN:VCALENDAR
VERSION:2.0
PRODID:-//Plone.org//NONSGML plone.app.event//EN
X-WR-TIMEZONE:US/Central
BEGIN:VEVENT
SUMMARY:Librarian on Location Storytime
DTSTART;TZID=US/Central:20230123T100000
DTEND;TZID=US/Central:20230123T110000
DTSTAMP:20260420T093552Z
UID:25889817fe7d447e858401cfbac135b0@saas_stack_varnish:6080
CONTACT:Tracy Lambert Jack\, 8174416545\, programs@epclibrary.com
CREATED:20230119T205222Z
DESCRIPTION:Join the outreach and programming librarian for a bonus EPC Li
 brary storytime at Two Sisters Teahouse\, 209 E. Front St. in Aledo where 
 she will read My Pet Feet and other stories about words and word play.
LAST-MODIFIED:20230119T205234Z
LOCATION:Two Sisters Teahouse
URL:https://eastparkercounty.ploud.net/news-events/lib-cal/librarian-on-lo
 cation-storytime
END:VEVENT
BEGIN:VTIMEZONE
TZID:US/Central
X-LIC-LOCATION:US/Central
BEGIN:STANDARD
DTSTART:20221106T010000
TZNAME:CST
TZOFFSETFROM:-0500
TZOFFSETTO:-0600
END:STANDARD
END:VTIMEZONE
END:VCALENDAR
