BEGIN:VCALENDAR
VERSION:2.0
PRODID:-//Plone.org//NONSGML plone.app.event//EN
X-WR-TIMEZONE:US/Central
BEGIN:VEVENT
SUMMARY:Kindness in the Community Storytime with Tarrant Area Food Bank
DTSTART;TZID=US/Central:20230721T103000
DTEND;TZID=US/Central:20230721T113000
DTSTAMP:20260420T092436Z
UID:0d1087a5c751496d9adbc9e4cbe1430f@saas_stack_varnish:6080
CONTACT:Tracy Lambert Jack\, 8174416545\, programs@epclibrary.com
CREATED:20230718T150759Z
LAST-MODIFIED:20230718T150814Z
LOCATION:Aledo Community Center
URL:https://eastparkercounty.ploud.net/news-events/lib-cal/kindness-in-the
 -community-storytime-with-tarrant-area-food-bank
END:VEVENT
BEGIN:VTIMEZONE
TZID:US/Central
X-LIC-LOCATION:US/Central
BEGIN:DAYLIGHT
DTSTART:20230312T030000
TZNAME:CDT
TZOFFSETFROM:-0600
TZOFFSETTO:-0500
END:DAYLIGHT
END:VTIMEZONE
END:VCALENDAR
